BEGIN:VCALENDAR
VERSION:2.0
PRODID:-//AcrossEU Consortium - ECPv6.15.18//NONSGML v1.0//EN
CALSCALE:GREGORIAN
METHOD:PUBLISH
X-WR-CALNAME:AcrossEU Consortium
X-ORIGINAL-URL:https://acrosseu.unicaen.fr
X-WR-CALDESC:Events for AcrossEU Consortium
REFRESH-INTERVAL;VALUE=DURATION:PT1H
X-Robots-Tag:noindex
X-PUBLISHED-TTL:PT1H
BEGIN:VTIMEZONE
TZID:Europe/Paris
BEGIN:DAYLIGHT
TZOFFSETFROM:+0100
TZOFFSETTO:+0200
TZNAME:CEST
DTSTART:20240331T010000
END:DAYLIGHT
BEGIN:STANDARD
TZOFFSETFROM:+0200
TZOFFSETTO:+0100
TZNAME:CET
DTSTART:20241027T010000
END:STANDARD
BEGIN:DAYLIGHT
TZOFFSETFROM:+0100
TZOFFSETTO:+0200
TZNAME:CEST
DTSTART:20250330T010000
END:DAYLIGHT
BEGIN:STANDARD
TZOFFSETFROM:+0200
TZOFFSETTO:+0100
TZNAME:CET
DTSTART:20251026T010000
END:STANDARD
BEGIN:DAYLIGHT
TZOFFSETFROM:+0100
TZOFFSETTO:+0200
TZNAME:CEST
DTSTART:20260329T010000
END:DAYLIGHT
BEGIN:STANDARD
TZOFFSETFROM:+0200
TZOFFSETTO:+0100
TZNAME:CET
DTSTART:20261025T010000
END:STANDARD
END:VTIMEZONE
BEGIN:VEVENT
DTSTART;TZID=Europe/Paris:20250505T080000
DTEND;TZID=Europe/Paris:20250509T170000
DTSTAMP:20260421T211447
CREATED:20250409T131308Z
LAST-MODIFIED:20250410T075006Z
UID:48253-1746432000-1746810000@acrosseu.unicaen.fr
SUMMARY:Mobility week UKIM | European Upskilling of Students for Sustainable Entrepreneurship
DESCRIPTION:EU2SE – European Upskilling of Students for Sustainable Entrepreneurship \n\n\n\nMobility week in OHRID  hosted by North Macedonia (UKIM- Ss. Cyril and Methodius University) \n\n\n\nThe Entrepreneurial Week will be the culminating event of a six-week intensive training program designed to upskill 40 students from diverse cross-cultural and interdisciplinary backgrounds. This initiative aims to provide hands-on entrepreneurial experience\, encouraging participants to develop innovative solutions for sustainable business challenges. \n\n\n\nThe focus areas of this event include: \n\n\n\n\nSustainable food production and food waste management\n\n\n\nGreen businesses for environmental protection and resource conservation.\n\n\n\n\nDuring the week\, participants will refine their business models\, develop prototypes\, and receive expert mentorship to ensure their ideas align with real-world business dynamics. The event features a mix of interactive workshops/hands-on prototyping sessions/ guest speaker engagements /mentorship. \n\n\n\nThese will ultimately lead to the final pitch competition\, where teams will present their solutions to a panel of judges.
URL:https://acrosseu.unicaen.fr/event/mobility-week-ukim-european-upskilling-of-students-for-sustainable-entrepreneurship/
LOCATION:Congress center „Ohrid“\, Congress center „Ohrid“\, Ohrid\, North Macedonia
END:VEVENT
BEGIN:VEVENT
DTSTART;TZID=Europe/Paris:20250507T080000
DTEND;TZID=Europe/Paris:20250507T170000
DTSTAMP:20260421T211447
CREATED:20250215T085100Z
LAST-MODIFIED:20260327T085205Z
UID:89298-1746604800-1746637200@acrosseu.unicaen.fr
SUMMARY:ACROSSEU | STEERING COMMITEE MEETINGS
DESCRIPTION:
URL:https://acrosseu.unicaen.fr/event/acrosseu-steering-commitee-meetings-5/
LOCATION:Bruxelles\, Bruxelles\, Belgium
END:VEVENT
BEGIN:VEVENT
DTSTART;TZID=Europe/Paris:20250512T080000
DTEND;TZID=Europe/Paris:20250516T170000
DTSTAMP:20260421T211447
CREATED:20250409T122942Z
LAST-MODIFIED:20250409T122943Z
UID:48238-1747036800-1747414800@acrosseu.unicaen.fr
SUMMARY:BIP Pardubice | Innovative solutions in the age of digitalization
DESCRIPTION:This blended intensive program is to learn about the role and impact of new technology in the business environment. It will help participants to: \n\n\n\n\nExplore the process of digitalization and how it transforms the way businesses and public administration operate.\n\n\n\nDiscover the concept of agile digital mindset and how it enables individuals and organizations to tackle complex challenges with creativity\, flexibility\, and a focus on continuous improvement. \n\n\n\nMake informed and qualified decisions about digitalization by selecting appropriate technology.\n\n\n\n\nDesigned for undergraduate and postgraduate students it will start with virtual sessions to prepare the physical mobility in Pardubice.
URL:https://acrosseu.unicaen.fr/event/bip-pardubice-innovative-solutions-in-the-age-of-digitalization/
LOCATION:University of Pardubice\, University of Pardubice\, Studentská 95\, Pardubice\, 532 10\, Czech Republic
ATTACH;FMTTYPE=image/png:https://acrosseu.unicaen.fr/wp-content/uploads/sites/38/2025/04/Capture.png
END:VEVENT
END:VCALENDAR